OziExplorer Map Data File Version 2.1
Kackar 1:100000 (C) 1972-1990 Generalnyj stab SSSR
Kackar.jpg
1 TIFF scale factor
Pulkovo RU,WGS 84, 0.0000, 0.0000,WGS 84
Reserved 1
Reserved 2
Magnetic Variation,,,E
Map Projection,Transverse Mercator,PolyCal,No,AutoCalOnly,No,BSBUseWPX,Yes
Point01,xy, 0, 0,in, deg, , ,N, , ,E, grid, , 7598612, 4574953,N
Point02,xy, 8600, 0,in, deg, , ,N, , ,E, grid, , 7744191, 4578689,N
Point03,xy, 8600, 5600,in, deg, , ,N, , ,E, grid, , 7746623, 4483894,N
Projection Setup, 0.000000000, 39.000000000, 1.000000000, 7500000.00, 0.00,,
Map Feature = MF ; Map Comment = MC These follow if they exist
Track File = TF These follow if they exist Moving Map Stuff = MM? These follow if they exist
MM0,No
MMPNUM,4
MMPXY,1,0,0
MMPXY,2,8600,0
MMPXY,3,8600,5600
MMPXY,4,0,5600
MMPLL,1, 40.177441, 41.302818
MMPLL,2, 41.915659, 41.305535
MMPLL,3, 41.907090, 40.452314
MMPLL,4, 40.191076, 40.449107
MM1B,16.921020 MM3,0.05903558559027,0.00151457928790,-455517.63815031603200,0.00151504275091,-0.05903597674090,258574.59687509504000
