OziExplorer Map Data File Version 2.1
Zakarpatska oblast 1:100000 (C) 1975-1992 Generalnyj stab SSSR
Zakarpatska.jpg
1 TIFF scale factor
Pulkovo RU,WGS 84, 0.0000, 0.0000,WGS 84
Reserved 1
Reserved 2
Magnetic Variation,,,E
Map Projection,Transverse Mercator,PolyCal,No,AutoCalOnly,No,BSBUseWPX,Yes
Point01,xy, 0, 0,in, deg, , ,N, , ,E, grid, , 4576507, 5441349,N
Point02,xy,11400, 7920,in, deg, , ,N, , ,E, grid, , 4772991, 5312336,N
Point03,xy,11400, 0,in, deg, , ,N, , ,E, grid, , 4769481, 5446402,N
Projection Setup, 0.000000000, 21.000000000, 1.000000000, 4500000.00, 0.00,,
Map Feature = MF ; Map Comment = MC These follow if they exist
Track File = TF These follow if they exist Moving Map Stuff = MM? These follow if they exist
MM0,No
MMPNUM,4
MMPXY,1,0,0
MMPXY,2,11400,0
MMPXY,3,11400,7920
MMPXY,4,0,7920
MMPLL,1, 22.047666, 49.099783
MMPLL,2, 24.689878, 49.090967
MMPLL,3, 24.650327, 47.886319
MMPLL,4, 22.070047, 47.893943
MM1B,16.920773 MM3,0.05903484403710,0.00154559914783,-278583.52135755712000,0.00154582169534,-0.05903490940076,314155.08143871980800
