OziExplorer Map Data File Version 2.1
Zijovo & Prokletije 1:50000 (C) 1974-1977 Generalnyj stab SSSR
Zijovo.jpg
1 TIFF scale factor
Pulkovo RU,WGS 84, 0.0000, 0.0000,WGS 84
Reserved 1
Reserved 2
Magnetic Variation,,,E
Map Projection,Transverse Mercator,PolyCal,No,AutoCalOnly,No,BSBUseWPX,Yes
Point01,xy,-2447, 0,in, deg, , ,N, , ,E, grid, , 4356301.57,4726760.928,N
Point02,xy, 7262, 0,in, deg, , ,N, , ,E, grid, ,4438501.307,4726043.582,N
Point03,xy, 7262, 4316,in, deg, , ,N, , ,E, grid, , 4438182.42, 4689502.84,N
Projection Setup, 0.000000000, 21.000000000, 1.000000000, 4500000.00, 0.00,,
Map Feature = MF ; Map Comment = MC These follow if they exist
Track File = TF These follow if they exist Moving Map Stuff = MM? These follow if they exist
MM0,No
MMPNUM,4
MMPXY,1,0,0
MMPXY,2,7262,0
MMPXY,3,7262,4316
MMPXY,4,0,4316
MMPLL,1, 19.499970, 42.664106
MMPLL,2, 20.249851, 42.666642
MMPLL,3, 20.249904, 42.337700
MMPLL,4, 19.503943, 42.335223
MM1B,8.462958 MM3,0.11810573838664,-0.00103069567088,-512079.36153288544000,-0.00103069282514,-0.11810573864818,562747.59959815699200
